BEGIN:VCALENDAR
VERSION:2.0
PRODID:-//Mairie de Conqueyrac - ECPv6.15.20//NONSGML v1.0//EN
CALSCALE:GREGORIAN
METHOD:PUBLISH
X-WR-CALNAME:Mairie de Conqueyrac
X-ORIGINAL-URL:https://conqueyrac.fr
X-WR-CALDESC:Évènements pour Mairie de Conqueyrac
REFRESH-INTERVAL;VALUE=DURATION:PT1H
X-Robots-Tag:noindex
X-PUBLISHED-TTL:PT1H
BEGIN:VTIMEZONE
TZID:Europe/Paris
BEGIN:DAYLIGHT
TZOFFSETFROM:+0100
TZOFFSETTO:+0200
TZNAME:CEST
DTSTART:20250330T010000
END:DAYLIGHT
BEGIN:STANDARD
TZOFFSETFROM:+0200
TZOFFSETTO:+0100
TZNAME:CET
DTSTART:20251026T010000
END:STANDARD
BEGIN:DAYLIGHT
TZOFFSETFROM:+0100
TZOFFSETTO:+0200
TZNAME:CEST
DTSTART:20260329T010000
END:DAYLIGHT
BEGIN:STANDARD
TZOFFSETFROM:+0200
TZOFFSETTO:+0100
TZNAME:CET
DTSTART:20261025T010000
END:STANDARD
BEGIN:DAYLIGHT
TZOFFSETFROM:+0100
TZOFFSETTO:+0200
TZNAME:CEST
DTSTART:20270328T010000
END:DAYLIGHT
BEGIN:STANDARD
TZOFFSETFROM:+0200
TZOFFSETTO:+0100
TZNAME:CET
DTSTART:20271031T010000
END:STANDARD
END:VTIMEZONE
BEGIN:VEVENT
DTSTART;TZID=Europe/Paris:20260417T183000
DTEND;TZID=Europe/Paris:20260417T203000
DTSTAMP:20260423T105949
CREATED:20260410T135920Z
LAST-MODIFIED:20260410T135920Z
UID:1265-1776450600-1776457800@conqueyrac.fr
SUMMARY:CONSEIL MUNICIPAL Vendredi 17 avril 2026 à 18 heures 30
DESCRIPTION:ORDRE DU JOUR \n1. Demandes de subvention Association sportive Collège Saint Hippolyte du Fort et sortie scolaire école Saint Jean Paul II.\n2. Comptes administratifs 2025 / Affectations des résultats / Comptes de gestion 2025 / Taux imposition 2026 / Budgets primitifs 2026.\n3. Désignation d’un élu délégué pour la gestion des projets de parc photovoltaïque de la famille Troupel.\n4. Désignation d’un délégué au CAUE.\n5. Désignation des membres aux commissions thématiques de la Communauté de communes du Piémont Cévenol.\n6. Questions diverses.Convocation CM 04-17-2026
URL:https://conqueyrac.fr/evenement/conseil-municipal-vendredi-17-avril-2026-a-18-heures-30/
END:VEVENT
END:VCALENDAR